BEGIN:VCALENDAR
VERSION:2.0
PRODID:-//Die Schreiberinnen - ECPv6.3.3.1//NONSGML v1.0//EN
CALSCALE:GREGORIAN
METHOD:PUBLISH
X-ORIGINAL-URL:https://dieschreiberinnen.at
X-WR-CALDESC:Veranstaltungen für Die Schreiberinnen
REFRESH-INTERVAL;VALUE=DURATION:PT1H
X-Robots-Tag:noindex
X-PUBLISHED-TTL:PT1H
BEGIN:VTIMEZONE
TZID:Europe/Vienna
BEGIN:DAYLIGHT
TZOFFSETFROM:+0100
TZOFFSETTO:+0200
TZNAME:CEST
DTSTART:20240331T010000
END:DAYLIGHT
BEGIN:STANDARD
TZOFFSETFROM:+0200
TZOFFSETTO:+0100
TZNAME:CET
DTSTART:20241027T010000
END:STANDARD
END:VTIMEZONE
BEGIN:VEVENT
DTSTART;TZID=Europe/Vienna:20240823T100000
DTEND;TZID=Europe/Vienna:20240823T153000
DTSTAMP:20260421T233830
CREATED:20240724T095659Z
LAST-MODIFIED:20240724T095659Z
UID:596-1724407200-1724427000@dieschreiberinnen.at
SUMMARY:Schreibend mit Pferden
DESCRIPTION:Eine einzigartige Kombination zwischen Pferdeerlebnis und Kreativität!\nWährend eines Pferde-Coachings und anschließender gemeinsamer Schreibwerkstatt bringen wir gemeinsam Ihre Eindrücke und Erlebnisse zu Papier. \n\n	\n	\n		\n			\n	\n	\n	\n\n \nFlyer A4 Schreibend mit Pferden August
URL:https://dieschreiberinnen.at/event/schreibend-mit-pferden/
LOCATION:Therapiestall „mit PFERDEnSTÄRKEN“\, Gewerbegasse 13\, Kaltenleutgeben\, Niederösterreich\, 2391\, Austria
ORGANIZER;CN="Mag. Sandra Priesner":MAILTO:sandra.priesner@dieschreiberinnen.at
END:VEVENT
END:VCALENDAR