BEGIN:VCALENDAR
VERSION:2.0
PRODID:-//Die Schreiberinnen - ECPv6.3.3.1//NONSGML v1.0//EN
CALSCALE:GREGORIAN
METHOD:PUBLISH
X-ORIGINAL-URL:https://dieschreiberinnen.at
X-WR-CALDESC:Veranstaltungen für Die Schreiberinnen
REFRESH-INTERVAL;VALUE=DURATION:PT1H
X-Robots-Tag:noindex
X-PUBLISHED-TTL:PT1H
BEGIN:VTIMEZONE
TZID:Europe/Vienna
BEGIN:DAYLIGHT
TZOFFSETFROM:+0100
TZOFFSETTO:+0200
TZNAME:CEST
DTSTART:20260329T010000
END:DAYLIGHT
BEGIN:STANDARD
TZOFFSETFROM:+0200
TZOFFSETTO:+0100
TZNAME:CET
DTSTART:20261025T010000
END:STANDARD
END:VTIMEZONE
BEGIN:VEVENT
DTSTART;TZID=Europe/Vienna:20260614T110000
DTEND;TZID=Europe/Vienna:20260614T170000
DTSTAMP:20260422T110828
CREATED:20260408T115626Z
LAST-MODIFIED:20260420T134214Z
UID:870-1781434800-1781456400@dieschreiberinnen.at
SUMMARY:Schreibend im Alten Jüdischen Friedhof
DESCRIPTION:Seit 1877 gibt es bereits den alten jüdischen Friedhof im Bezirk Wien Simmering.\nGleich bei Tor 1 tauchen wir ein in den morbiden Charme der beschaulichen Grabstätten und erkunden schreibend diesen besonderen\, ja fast magischen Ort. Wir lassen uns inspirieren von den Inschriften auf den Grabsteinen\, der einzigartigen Architektur der Grabmäler\, der Lichtungen\, Bäume und Pflanzen\, die mit dem Ort im Laufe der Zeit verschmelzen.\nMit etwas Glück begegnen wir den Tieren des Friedhofes\, wie Rehe\, Igel\, Hamster oder Vögel. Auch der eine oder andere Fasan wurde schon gesichtet. Neben der Spuren der Tiere begeben wir uns auf die Spuren bedeutender Künstler. Es bietet sich uns eine unendliche Vielfalt an Inspiration für das Schreiben. Wir sammeln sommerliche Eindrücke\, die wir kreativ zu Papier bringen.
URL:https://dieschreiberinnen.at/event/schreibend-im-alten-juedischen-friedhof-2/
ORGANIZER;CN="Mag. Sandra Priesner":MAILTO:sandra.priesner@dieschreiberinnen.at
END:VEVENT
BEGIN:VEVENT
DTSTART;TZID=Europe/Vienna:20260906T110000
DTEND;TZID=Europe/Vienna:20260906T170000
DTSTAMP:20260422T110828
CREATED:20260409T105838Z
LAST-MODIFIED:20260419T083038Z
UID:879-1788692400-1788714000@dieschreiberinnen.at
SUMMARY:Schreibend im Alten Jüdischen Friedhof
DESCRIPTION:Seit 1877 gibt es bereits den alten jüdischen Friedhof im Bezirk Wien Simmering.\nGleich bei Tor 1 tauchen wir ein in den morbiden Charme der beschaulichen Grabstätten und erkunden schreibend diesen besonderen\, ja fast magischen Ort\, lassen uns inspirieren von den Inschriften auf den Grabsteinen\, der einzigartigen Architektur der Grabmäler\, der Lichtungen\, Bäume und Pflanzen\, die mit dem Ort im Laufe der Zeit verschmelzen.\nMit etwas Glück begegnen wir den Tieren des Friedhofes\, wie Rehe\, Igel\, Hamster oder Vögel. Auch der eine oder andere Fasan wurde schon gesichtet. Neben der Spuren der Tiere begeben wir uns auf die Spuren bedeutender Literaten. Es bietet sich uns eine unendliche Vielfalt an Inspiration für das Schreiben. Wir sammeln herbstliche Eindrücke\, die wir kreativ zu Papier bringen.
URL:https://dieschreiberinnen.at/event/schreibend-im-alten-juedischen-friedhof-3/
ORGANIZER;CN="Mag. Sandra Priesner":MAILTO:sandra.priesner@dieschreiberinnen.at
END:VEVENT
BEGIN:VEVENT
DTSTART;TZID=Europe/Vienna:20261011T100000
DTEND;TZID=Europe/Vienna:20261011T170000
DTSTAMP:20260422T110828
CREATED:20260419T080625Z
LAST-MODIFIED:20260419T081508Z
UID:891-1791712800-1791738000@dieschreiberinnen.at
SUMMARY:Das Grundgerüst für Ihr Buch
DESCRIPTION:Bringen Sie Bewegung in Ihr Buchprojekt!\nSie möchten ein Buch schreiben wissen aber nicht wie sie anfangen sollen? Oder vielleicht haben sie schon die ersten Seiten und stecken fest? Was Sie brauchen ist ein Plot. Der Plot gibt Ihnen Struktur\, zeigt um was es in Ihrer Geschichte geht und wo die Reise hinführt. \nWenn Sie genau das brauchen\, dann sind Sie hier richtig.\nAnhand von Beispielen und gezielten Übungen zeigen wir Ihnen\, wie Sie einen Plot entwerfen und so Bewegung in Ihre Geschichte bringen.\nMitzubringen ist eine Zusammenfassung Ihres Textes\, aus der Sie Ihren Plot\nentwickeln möchten sowie Stift und Papier oder Laptop.
URL:https://dieschreiberinnen.at/event/das-grundgeruest-fuer-ihr-buch/
LOCATION:Atelier des Berufsverbandes der Österreichischen SchreibpädagogInnen (BÖS)\, Vivenotgasse 30/3/3\, Wien\, 1120\, Austria
ATTACH;FMTTYPE=image/jpeg:https://dieschreiberinnen.at/wp-content/uploads/2025/06/writers-scene-concept-2-scaled.jpg
ORGANIZER;CN="Mag. Sandra Priesner":MAILTO:sandra.priesner@dieschreiberinnen.at
END:VEVENT
END:VCALENDAR