BEGIN:VCALENDAR
VERSION:2.0
PRODID:-//Die Schreiberinnen - ECPv6.3.3.1//NONSGML v1.0//EN
CALSCALE:GREGORIAN
METHOD:PUBLISH
X-WR-CALNAME:Die Schreiberinnen
X-ORIGINAL-URL:https://dieschreiberinnen.at
X-WR-CALDESC:Veranstaltungen für Die Schreiberinnen
REFRESH-INTERVAL;VALUE=DURATION:PT1H
X-Robots-Tag:noindex
X-PUBLISHED-TTL:PT1H
BEGIN:VTIMEZONE
TZID:Europe/Vienna
BEGIN:DAYLIGHT
TZOFFSETFROM:+0100
TZOFFSETTO:+0200
TZNAME:CEST
DTSTART:20240331T010000
END:DAYLIGHT
BEGIN:STANDARD
TZOFFSETFROM:+0200
TZOFFSETTO:+0100
TZNAME:CET
DTSTART:20241027T010000
END:STANDARD
END:VTIMEZONE
BEGIN:VEVENT
DTSTART;TZID=Europe/Vienna:20240915T100000
DTEND;TZID=Europe/Vienna:20240915T180000
DTSTAMP:20260421T202147
CREATED:20240723T140821Z
LAST-MODIFIED:20240724T090508Z
UID:571-1726394400-1726423200@dieschreiberinnen.at
SUMMARY:Schreibend im Schrebergarten
DESCRIPTION:Inmitten der Weingärten werden wir mit gezielten Übungen\, spielerisch und ohne Druck\, großartige Texte entstehen lassen. Die angenehme Atmosphäre in der Kleingruppe von 6 bis 10 TeilnehmerInnen schafft Vertrauen und fördert den Schreibfluss. Für das leibliche Wohl ist gesorgt. \n  \n  \n\n	\n	\n		\n			\n	\n	\n	\n\nFlyer A4 Schreibend im Schrebergarten
URL:https://dieschreiberinnen.at/event/schreibend-im-schrebergarten-2/
LOCATION:Neustifter Friedhof\, Treffpunkt Neustifter Friedhof\, Tor 1\, Wien\, Wien\, 1180\, Austria
ORGANIZER;CN="Sabine Preisler":MAILTO:sabine.preisler@dieschreiberinnen.at
END:VEVENT
END:VCALENDAR